BEGIN:VCALENDAR
VERSION:2.0
PRODID:-//Tukios.com/
BEGIN:VEVENT
UID:221acb6d-496b-4e94-b4ec-97eb49ce8367@www.renfrofuneralservice.com
DTSTAMP:20260420T231239Z
DTSTART:20260509T140000Z
DTEND:20260509T160000Z
SUMMARY:Memorial Service
DESCRIPTION:
URL:https://www.renfrofuneralservice.com/obituaries/walter-clarke-jr
LOCATION: 647 Forest Ave  Cincinnati OH 45229
GEO:39.1453906;-84.4924412
END:VEVENT
END:VCALENDAR