BEGIN:VCALENDAR
VERSION:2.0
PRODID:-//Tukios.com/
BEGIN:VEVENT
UID:092a00c9-cbe0-40d0-8af8-325a6ccfd2af@www.renfrofuneralservice.com
DTSTAMP:20260420T213419Z
DTSTART:20260508T163000Z
DTEND:20260508T173000Z
SUMMARY:Funeral Service
DESCRIPTION:
URL:https://www.renfrofuneralservice.com/obituaries/dalashay-shady-scruggs
LOCATION: 930 Findlay St  Cincinnati OH 45214
GEO:39.1163958;-84.5304568
END:VEVENT
END:VCALENDAR