BEGIN:VCALENDAR
VERSION:2.0
PRODID:-//Tukios.com/
BEGIN:VEVENT
UID:de9c15f7-6432-4cdf-8db1-e16bd9477340@www.renfrofuneralservice.com
DTSTAMP:20260420T214007Z
DTSTART:20260508T150000Z
DTEND:20260508T163000Z
SUMMARY:Visitation
DESCRIPTION:
URL:https://www.renfrofuneralservice.com/obituaries/dalashay-shady-scruggs
LOCATION: 930 Findlay St  Cincinnati OH 45214
GEO:39.1163958;-84.5304568
END:VEVENT
END:VCALENDAR